BEGIN:VCALENDAR
VERSION:2.0
PRODID:-//Daniel Agi - ECPv5.2.0//NONSGML v1.0//EN
CALSCALE:GREGORIAN
METHOD:PUBLISH
X-WR-CALNAME:Daniel Agi
X-ORIGINAL-URL:https://www.daniel-agi.de
X-WR-CALDESC:Veranstaltungen für Daniel Agi
BEGIN:VTIMEZONE
TZID:Europe/Berlin
BEGIN:DAYLIGHT
TZOFFSETFROM:+0100
TZOFFSETTO:+0200
TZNAME:CEST
DTSTART:20210328T010000
END:DAYLIGHT
BEGIN:STANDARD
TZOFFSETFROM:+0200
TZOFFSETTO:+0100
TZNAME:CET
DTSTART:20211031T010000
END:STANDARD
END:VTIMEZONE
BEGIN:VEVENT
DTSTART;TZID=Europe/Berlin:20211002T163000
DTEND;TZID=Europe/Berlin:20211002T170000
DTSTAMP:20260420T102133
CREATED:20210719T131401Z
LAST-MODIFIED:20210719T131401Z
UID:1280-1633192200-1633194000@www.daniel-agi.de
SUMMARY:verQuer
DESCRIPTION:Kinderkonzert in Kernen-Stetten
URL:https://www.daniel-agi.de/concerts/verquer-10/
LOCATION:Glockenkelter\, Hindenburgstraße 43\, Kernen-Stetten\, Deutschland
END:VEVENT
END:VCALENDAR